BEGIN:VCALENDAR
VERSION:2.0
PRODID:-//ChamberMaster//Event Calendar 2.0//EN
METHOD:PUBLISH
X-PUBLISHED-TTL:P3D
REFRESH-INTERVAL:P3D
CALSCALE:GREGORIAN
BEGIN:VEVENT
DTSTART:20190410T203000Z
DTEND:20190410T230000Z
X-MICROSOFT-CDO-ALLDAYEVENT:FALSE
SUMMARY:1st Aid/CPR Training
DESCRIPTION:Get yourself\, your employees or subcontractors certified or re-certified! The Washington State Industrial Safety & Health Act (WISHA) includes the requirement that a person holding a valid certification of First Aid Training be present or available at all work sites.\n\nThis class will provide you and your employees with a 2 year State\n\napproved level of First Aid and CPR training\, and is good for first time certifications and re-certifications. This class is available to members and non-members\, with members\n\nreceiving a discounted rate as a feature of their membership\n\n($50 for members\, $60 for non-members)\n\nemail: KBAEvents@KitsapBuilds.com or call 360 479-5778 to register
X-ALT-DESC;FMTTYPE=text/html:Get yourself\, your employees or subcontractors certified or re-certified! The Washington State Industrial Safety &amp\; Health Act (WISHA) includes the requirement that a person holding a valid certification of First Aid Training be present or available at all work sites.<br />\nThis class will provide you and your employees with a 2 year State<br />\napproved level of First Aid and CPR training\, and is good for first time certifications and re-certifications. This class is available to members and non-members\, with members<br />\nreceiving a discounted rate as a feature of their membership<br />\n($50 for members\, $60 for non-members)<br />\nemail: KBAEvents@KitsapBuilds.com or call 360 479-5778 to register
LOCATION:Kitsap Building Association Office 5251 Auto Center Way Bremerton\, WA 98312
UID:e.9586.5995
SEQUENCE:3
DTSTAMP:20260419T203518Z
URL:https://business.kitsapbuilds.com/events/details/1st-aid-cpr-training-5995
END:VEVENT

END:VCALENDAR
