BEGIN:VCALENDAR
VERSION:2.0
PRODID:-//ChamberMaster//Event Calendar 2.0//EN
METHOD:PUBLISH
X-PUBLISHED-TTL:P3D
REFRESH-INTERVAL:P3D
CALSCALE:GREGORIAN
BEGIN:VEVENT
DTSTART:20190423T140000Z
DTEND:20190423T150000Z
X-MICROSOFT-CDO-ALLDAYEVENT:FALSE
SUMMARY:Builder-Inspector Breakfast (BIB)
DESCRIPTION:KBA\, in conjunction with the Kitsap Co. Department of Community Development will be hosting a Builder-Inspector Breakfast (BIB) to discuss current requirements\, new technologies\, and lesson learned while on the job site.\n\nAll KBA developers and builders are encouraged to attend.
X-ALT-DESC;FMTTYPE=text/html:<span style="font-size:14px\;"><span style="font-family:arial\;">KBA\, in conjunction with the Kitsap Co. Department of Community Development will be hosting a Builder-Inspector Breakfast (BIB) to discuss current requirements\, new technologies\, and lesson learned while on the job site.<br />\nAll KBA developers and builders are encouraged to attend.</span></span>
LOCATION:Hi Joy Bowl 1011 Bethel Ave\, Port Orchard\, WA 98366
UID:e.9586.6137
SEQUENCE:3
DTSTAMP:20260419T220615Z
URL:https://business.kitsapbuilds.com/events/details/builder-inspector-breakfast-bib-6137
END:VEVENT

END:VCALENDAR
