BEGIN:VCALENDAR
VERSION:2.0
PRODID:-//ChamberMaster//Event Calendar 2.0//EN
METHOD:PUBLISH
X-PUBLISHED-TTL:P3D
REFRESH-INTERVAL:P3D
CALSCALE:GREGORIAN
BEGIN:VEVENT
DTSTART:20190423T153000Z
DTEND:20190423T233000Z
X-MICROSOFT-CDO-ALLDAYEVENT:FALSE
SUMMARY:Construction Contracts & Lien Law Class
DESCRIPTION:Learn important construction contract terms and how to\n\nprepare\, record\, and foreclose a lien on either a commercial or\n\nresidential project. The seminar will also teach you how to\n\nprepare\, file\, and foreclose your lien against a payment bond or\n\na retainage on any federal\, state\, county\, or city public works\n\nproject.\n\n\n\nClick here:  https://www.biaw.com/Register?sID=52041 for more information
X-ALT-DESC;FMTTYPE=text/html:Learn important construction contract terms and how to<br />\nprepare\, record\, and foreclose a lien on either a commercial or<br />\nresidential project. The seminar will also teach you how to<br />\nprepare\, file\, and foreclose your lien against a payment bond or<br />\na retainage on any federal\, state\, county\, or city public works<br />\nproject.<br />\n<br />\nClick here:&#8203\;<span style="font-family:calibri\,sans-serif\;"><span style="font-size:11.0pt\;">&nbsp\;<span style="color:blue\;"><a href="https://www.biaw.com/Register?sID=52041">https://www.biaw.com/Register?sID=52041</a>&nbsp\;for more information</span></span></span>
LOCATION:Kitsap Building Association 5251 Auto Center Way Bremerton\, WA 98312
UID:e.9586.6135
SEQUENCE:3
DTSTAMP:20260419T220419Z
URL:https://business.kitsapbuilds.com/events/details/construction-contracts-lien-law-class-6135
END:VEVENT

END:VCALENDAR
