BEGIN:VCALENDAR
VERSION:2.0
PRODID:-//ChamberMaster//Event Calendar 2.0//EN
METHOD:PUBLISH
X-PUBLISHED-TTL:P3D
REFRESH-INTERVAL:P3D
CALSCALE:GREGORIAN
BEGIN:VEVENT
DTSTART:20190403T190000Z
DTEND:20190403T200000Z
X-MICROSOFT-CDO-ALLDAYEVENT:FALSE
SUMMARY:General Membership Luncheon Meeting
DESCRIPTION:Come join us for our monthly General Membership Luncheon Meeting. Mayor Rob Putaansuu\, of Port Orchard\, will be speaking on the State of Port Orchard\, This event is sponsored by Kingston Lumber.
X-ALT-DESC;FMTTYPE=text/html:Come join us for our monthly General Membership Luncheon Meeting. Mayor Rob Putaansuu\, of Port Orchard\, will be speaking on the State of Port Orchard\, This event is sponsored by Kingston Lumber.
LOCATION:Kitsap Golf and Country Club 3885 NW Golf Club Hill Road Bremerton\, WA 98312
UID:e.9586.5998
SEQUENCE:3
DTSTAMP:20260419T203713Z
URL:https://business.kitsapbuilds.com/events/details/general-membership-luncheon-meeting-5998
END:VEVENT

END:VCALENDAR
