BEGIN:VCALENDAR
VERSION:2.0
PRODID:-//ChamberMaster//Event Calendar 2.0//EN
METHOD:PUBLISH
X-PUBLISHED-TTL:P3D
REFRESH-INTERVAL:P3D
CALSCALE:GREGORIAN
BEGIN:VEVENT
DTSTART:20190418T230000Z
DTEND:20190419T020000Z
X-MICROSOFT-CDO-ALLDAYEVENT:FALSE
SUMMARY:KBA President's Reception
DESCRIPTION:We want to officially invite you to the 2019 Presidents Reception! This was originally scheduled in February but was rescheduled due to the snow storm.\n\n\n\nLet's get together and formally welcome Bill Broughton as the 2019 KBA President.\n\n\n\nPlease RSVP.
X-ALT-DESC;FMTTYPE=text/html:We want to officially invite you to the 2019 Presidents Reception! This was originally scheduled in February but was rescheduled due to the snow storm.<br />\n<br />\nLet&#39\;s get together and formally welcome Bill Broughton as the 2019 KBA President.<br />\n<br />\nPlease RSVP.
LOCATION:CASH BREWING 3388 NW Byron St. Silverdale \, WA 98383
UID:e.9586.6131
SEQUENCE:3
DTSTAMP:20260419T203653Z
URL:https://business.kitsapbuilds.com/events/details/kba-president-s-reception-6131
END:VEVENT

END:VCALENDAR
