BEGIN:VCALENDAR
VERSION:2.0
PRODID:-//ChamberMaster//Event Calendar 2.0//EN
METHOD:PUBLISH
X-PUBLISHED-TTL:P3D
REFRESH-INTERVAL:P3D
CALSCALE:GREGORIAN
BEGIN:VEVENT
DTSTART:20190417T150000Z
DTEND:20190417T160000Z
X-MICROSOFT-CDO-ALLDAYEVENT:FALSE
SUMMARY:New Member Breakfast and Orientation
DESCRIPTION:Come join us as we have the second KBA New Member Breakfast of 2019. This special event is for all new members that have joined the KBA in 2019 that have not attended our new member orientation\, as well as any prospective members. Also\, if you have joined in the past and would like to know what the KBA can offer you as a member\, you are invited! This is an opportunity to meet other members and hear about KBA programs\, committees\, and councils.
X-ALT-DESC;FMTTYPE=text/html:Come join us as we have the second KBA New Member Breakfast of 2019. This special event is for all new members that have joined the KBA in 2019 that have not attended our new member orientation\, as well as any prospective members. Also\, if you have joined in the past and would like to know what the KBA can offer you as a member\, you are invited! This is an opportunity to meet other members and hear about KBA programs\, committees\, and councils.
LOCATION:Kitsap Building Association 5251 Auto Center Way Bremerton\, WA 98312
UID:e.9586.6132
SEQUENCE:3
DTSTAMP:20260419T221128Z
URL:https://business.kitsapbuilds.com/events/details/new-member-breakfast-and-orientation-6132
END:VEVENT

END:VCALENDAR
