BEGIN:VCALENDAR
VERSION:2.0
PRODID:-//ChamberMaster//Event Calendar 2.0//EN
METHOD:PUBLISH
X-PUBLISHED-TTL:P3D
REFRESH-INTERVAL:P3D
CALSCALE:GREGORIAN
BEGIN:VEVENT
DTSTART:20260409T160000Z
DTEND:20260409T170000Z
X-MICROSOFT-CDO-ALLDAYEVENT:FALSE
SUMMARY:PWB Easter Egg Hunt & Historic Exploration at Arrow Lumberyard
DESCRIPTION:PWB April Event   Easter Egg Hunt & Historic Exploration!\n\nJoin the Professional Women in Building Council this April for a fun and unique spring gathering in Port Orchard!\n\nThis month we're mixing networking with a little adventure. Members will enjoy a festive Easter Egg Hunt in the lumber yard at Arrow Lumber\, followed by the opportunity to explore one of the oldest buildings in Port Orchard and learn a little about the history of our local lumber community.\n\n\n\nGuests will also have the opportunity to get a head start on Mother's Day shopping at the Garden Gift Center\, featuring beautiful plants\, gifts\, and spring d cor.\n\n\n\n  What to Expect:\n\n  Easter Egg Hunt in the Arrow Lumber yard\n\n   Explore one of Port Orchard's historic buildings\n\n  Casual networking with women in the building industry\n\n  Coffee\, conversation\, and community\n\n\n\nWhether you're a long-time member or new to PWB\, this is a great chance to connect\, laugh\, and celebrate spring together.\n\n  Mark your calendar and join us!\n\nBring your curiosity and maybe your competitive egg-hunting skills.\n\n\n\nMonthly Coffee Clutch hosted by the Professional Women in Building (PWB) Council! This intimate morning gathering provides a relaxed space for networking\, idea-sharing\, and meaningful conversations with fellow PWB Members.\n\n\n\nStart your morning with inspiration and collaboration we can't wait to see you there!
X-ALT-DESC;FMTTYPE=text/html:<p><strong><span style="font-family:aptos\,sans-serif\;">PWB April Event &ndash\; Easter Egg Hunt &amp\; Historic Exploration!</span></strong><br />\nJoin the Professional Women in Building Council this April for a fun and unique spring gathering in <strong><span style="font-family:aptos\,sans-serif\;">Port Orchard</span></strong>!<br />\nThis month we&rsquo\;re mixing networking with a little adventure. Members will enjoy a <strong><span style="font-family:aptos\,sans-serif\;">festive Easter Egg Hunt in the lumber yard at Arrow Lumber</span></strong>\, followed by the opportunity to <strong><span style="font-family:aptos\,sans-serif\;">explore one of the oldest buildings in Port Orchard</span></strong> and learn a little about the history of our local lumber community.<br />\n<br />\nGuests will also have the opportunity to <strong data-end="697" data-start="626">get a head start on Mother&rsquo\;s Day shopping at the Garden Gift Center</strong>\, featuring beautiful plants\, gifts\, and spring d&eacute\;cor.<br />\n<br />\n<span style="font-family:segoe ui emoji\,sans-serif\;">&#127800\;</span> <strong><span style="font-family:aptos\,sans-serif\;">What to Expect:</span></strong><br />\n<span style="font-family:segoe ui emoji\,sans-serif\;">&#129370\;</span> Easter Egg Hunt in the Arrow Lumber yard<br />\n<span style="font-family:segoe ui emoji\,sans-serif\;">&#127962\;&#65039\;</span> Explore one of Port Orchard&rsquo\;s historic buildings<br />\n<span style="font-family:segoe ui emoji\,sans-serif\;">&#129309\;</span> Casual networking with women in the building industry<br />\n<span style="font-family:segoe ui emoji\,sans-serif\;">&#9749\;</span> Coffee\, conversation\, and community<br />\n<br />\nWhether you&#39\;re a long-time member or new to PWB\, this is a great chance to connect\, laugh\, and celebrate spring together.<br />\n<span style="font-family:segoe ui emoji\,sans-serif\;">&#128197\;</span> <strong><span style="font-family:aptos\,sans-serif\;">Mark your calendar and join us!</span></strong><br />\nBring your curiosity&mdash\;and maybe your competitive egg-hunting skills.<br />\n<br />\nMonthly Coffee Clutch hosted by the <strong>Professional Women in Building (PWB) Council</strong>! This intimate morning gathering provides a relaxed space for networking\, idea-sharing\, and meaningful conversations with <strong>fellow PWB Members.</strong><br />\n<br />\nStart your morning with inspiration and collaboration&mdash\;<strong>we can&rsquo\;t wait to see you there!</strong></p>\n
LOCATION:Arrow Lumber 6100 Bethel Rd. SE Port Orchard\, WA 98367
UID:e.9586.7322
SEQUENCE:3
DTSTAMP:20260422T100734Z
URL:https://business.kitsapbuilds.com/events/details/pwb-easter-egg-hunt-historic-exploration-at-arrow-lumberyard-7322
END:VEVENT

END:VCALENDAR
